BEGIN:VCALENDAR
VERSION:2.0
PRODID:-//ChamberMaster//Event Calendar 2.0//EN
METHOD:PUBLISH
X-PUBLISHED-TTL:P3D
REFRESH-INTERVAL:P3D
CALSCALE:GREGORIAN
BEGIN:VEVENT
DTSTART:20260404T223000Z
DTEND:20260405T013000Z
X-MICROSOFT-CDO-ALLDAYEVENT:FALSE
SUMMARY:EASTER WHITE PARTY
DESCRIPTION:Come to Jensen Beach Ballroom and celebrate Easter with White \n\nDancing\, Fun\, Eggs Hunting while dancing\, \n\nYou don't know how to dance\, we will teach you\n\nit's easy....only bring your Smile\, your positive energy and have fun
X-ALT-DESC;FMTTYPE=text/html:Come to Jensen Beach Ballroom and celebrate Easter with White&nbsp\;<br />\nDancing\, Fun\, Eggs Hunting while dancing\,&nbsp\;<br />\nYou don&#39\;t know how to dance\, we will teach you<br />\nit&#39\;s easy....only bring your Smile\, your positive energy and have fun
LOCATION:Jensen Beach Ballroom 881 NE Jensen Beach Boulevard Jensen Beach\, FL 34957
UID:e.3209.19122
SEQUENCE:3
DTSTAMP:20260419T163228Z
URL:http://stuartmartin.chambermaster.com/events/details/easter-white-party-19122
END:VEVENT

END:VCALENDAR
